BEGIN:VCALENDAR
VERSION:2.0
PRODID:-//Squarespace Inc/Squarespace 6//v6//EN
BEGIN:VEVENT
UID:5da5fd50f74b65796d042f95@squarespace.com
DTSTAMP:20191017T180731Z
DTSTART:20191017T190000Z
DTEND:20191017T200000Z
SUMMARY:Registration is now CLOSED: Conference Call with Ambassador Robert 
 Ford-- Syria
END:VEVENT
END:VCALENDAR
