BEGIN:VCALENDAR
VERSION:2.0
PRODID:-//Squarespace Inc/Squarespace 6//v6//EN
BEGIN:VEVENT
UID:5d8247aa275cf11a42aebe6b@squarespace.com
DTSTAMP:20191008T180102Z
DTSTART:20190926T220000Z
DTEND:20190926T234500Z
SUMMARY:CANCELLED - Senator Jeff Merkley- Meet &amp\; Greet
GEO:40.754931;-73.984019
LOCATION:Midtown Manhattan
END:VEVENT
END:VCALENDAR
